BEGIN:VCALENDAR
VERSION:2.0
CALSCALE:GREGORIAN
METHOD:PUBLISH
PRODID://GDDR//1003864
BEGIN:VEVENT
DTSTAMP:20260419T224915
VTIMEZONE:America/Chicago
DTSTART:20201231T003000Z
DTEND:20201231T010000Z
UID:1003864
SUMMARY:Teen Virtual Coloring Event
LOCATION:Goddard Public Library, 201 N. Main St., Goddard, KS, 67052
DESCRIPTION:Teen Virtual Coloring Event\n\n12/30/20 06:30 PM CST\n - 12/30/20 07:00 PM CST\Description:\nVirtual Painting Class for TEENS (13-18)\Details:\nJoin us for a Virtual Painting Class. Kits will be provided by Paint the Towne. Kits will be available for pick up beginning December 21st at the Goddard Public Library. This class is for teens only (13-18)!  The class will be held over ZOOM. There is limited space for this event. You will need to reserve a ticket on EVENTBRITE. The cost is FREE!\Location:\nGoddard Public Library\n201 N. Main St.\nGoddard, KS 67052
X-ALT-DESC;FMTTYPE=text/html:Teen Virtual Coloring Event<br /><br />12/30/20 06:30 PM CST - 12/30/20 07:00 PM CST<br />Description:<br />Virtual Painting Class for TEENS (13-18)<br />Details:<br />Join us for a Virtual Painting Class. Kits will be provided by Paint the Towne. Kits will be available for pick up beginning December 21st at the Goddard Public Library. This class is for teens only (13-18)!&nbsp; The class will be held over ZOOM. There is limited space for this event. You will need to reserve a ticket on EVENTBRITE. The cost is FREE!<br />Location:<br />Goddard Public Library<br />201 N. Main St.<br />Goddard, KS 67052
PRIORITY:3
TRANSP:TRANSPARENT
BEGIN:VALARM
TRIGGER:-PT5M
ACTION:DISPLAY
DESCRIPTION:Reminder
END:VALARM
END:VEVENT
END:VCALENDAR
