BEGIN:VCALENDAR
VERSION:2.0
CALSCALE:GREGORIAN
METHOD:PUBLISH
PRODID://GDDR//1361273
BEGIN:VEVENT
DTSTAMP:20260422T084057
VTIMEZONE:America/Chicago
DTSTART:20251106T133000Z
DTEND:20251106T150000Z
UID:1361273
SUMMARY:Our Community Chamber November Cards and Coffee at Moxi Junction in Maize
LOCATION:Moxi Junction, 319 S. Park, Maize, KS, 67101
DESCRIPTION:Our Community Chamber November Cards and Coffee at Moxi Junction in Maize\n\n11/06/25 07:30 AM CST\n - 11/06/25 09:00 AM CST\Description:\nJoin us for Cards and Coffee at Moxi Junction in Maize! \n301 S. Park St. Maize, KS 67101\nBe sure to invite a guest and bring plenty of business cards!\Location:\nMoxi Junction\n319 S. Park\nMaize, KS 67101
X-ALT-DESC;FMTTYPE=text/html:Our Community Chamber November Cards and Coffee at Moxi Junction in Maize<br /><br />11/06/25 07:30 AM CST - 11/06/25 09:00 AM CST<br />Description:<br /><p>Join us for Cards and Coffee at Moxi Junction in Maize!&nbsp;<br />
301 S. Park St. Maize, KS 67101</p>
Be sure to invite a guest and bring plenty of business cards!<br />Location:<br />Moxi Junction<br />319 S. Park<br />Maize, KS 67101
PRIORITY:3
TRANSP:TRANSPARENT
BEGIN:VALARM
TRIGGER:-PT5M
ACTION:DISPLAY
DESCRIPTION:Reminder
END:VALARM
END:VEVENT
END:VCALENDAR
