BEGIN:VCALENDAR
VERSION:2.0
CALSCALE:GREGORIAN
METHOD:PUBLISH
PRODID://GDDR//1361282
BEGIN:VEVENT
DTSTAMP:20260422T084328
VTIMEZONE:America/Chicago
DTSTART:20251120T134500Z
DTEND:20251120T150000Z
UID:1361282
SUMMARY:Our Community Chamber November Cards and Coffee at Cofellow in Goddard
LOCATION:Cofellow Coffee Parlor, 107 N. Main, Goddard, KS, 67052
DESCRIPTION:Our Community Chamber November Cards and Coffee at Cofellow in Goddard\n\n11/20/25 07:45 AM CST\n - 11/20/25 09:00 AM CST\Description:\nJoin us for Cards and Coffee at Cofellow Coffee Parlor!\nBe sure to invite a guest and bring plenty of business cards!\n\nFREE EVENT FOR ALL AREA BUSINESSES!\Location:\nCofellow Coffee Parlor\n107 N. Main\nGoddard, KS 67052
X-ALT-DESC;FMTTYPE=text/html:Our Community Chamber November Cards and Coffee at Cofellow in Goddard<br /><br />11/20/25 07:45 AM CST - 11/20/25 09:00 AM CST<br />Description:<br /><p>Join us for Cards and Coffee at Cofellow Coffee Parlor!</p>
Be sure to invite a guest and bring plenty of business cards!<br />
<br />
FREE EVENT FOR ALL AREA BUSINESSES!<br />Location:<br />Cofellow Coffee Parlor<br />107 N. Main<br />Goddard, KS 67052
PRIORITY:3
TRANSP:TRANSPARENT
BEGIN:VALARM
TRIGGER:-PT5M
ACTION:DISPLAY
DESCRIPTION:Reminder
END:VALARM
END:VEVENT
END:VCALENDAR
