BEGIN:VCALENDAR
VERSION:2.0
CALSCALE:GREGORIAN
METHOD:PUBLISH
PRODID://GDDR//1372345
BEGIN:VEVENT
DTSTAMP:20260422T085214
VTIMEZONE:America/Chicago
DTSTART:20251213T200000Z
DTEND:20251213T220000Z
UID:1372345
SUMMARY:Cookies and Coloring with Mrs. Claus
LOCATION:Goddard Community Center, 122 N Main Street, Goddard, KS, 67052
DESCRIPTION:Cookies and Coloring with Mrs. Claus\n\n12/13/25 02:00 PM CST\n - 12/13/25 04:00 PM CST\Description:\nStep into a world of holiday magic with the Society of Child Entrepreneurs at our annual Cookies & Coloring with Mrs. Claus event! This cozy, joy-filled afternoon is perfect for young dreamers who love cookies, crafts, and Christmas cheer.\n\nâœ¨ Mrs. Claus will be joining us straight from the North Pole to share warm cookies, sweet stories, and festive fun. Kids can enjoy holiday-themed coloring pages, sip on cocoa, and snap a photo with our special guest!\n\nðŸª What to Expect:\n\n\n	\n	Cookies and hot cocoa with Mrs. Claus\n	\n	\n	Holiday coloring and craft stations\n	\n	\n	A festive photo opportunity ðŸ“¸\n	\n	\n	Jolly music, cozy vibes, and a little North Pole magic\n	\n\n\nðŸŽŸï¸ Admission:\n\n\n	\n	$5 per child (ages 1–17)\n	\n	\n	Adults are free!\n	\n\n\Details:\n$5 per child - Free for Adults!\Location:\nGoddard Community Center\n122 N Main Street\nGoddard, KS 67052
X-ALT-DESC;FMTTYPE=text/html:Cookies and Coloring with Mrs. Claus<br /><br />12/13/25 02:00 PM CST - 12/13/25 04:00 PM CST<br />Description:<br /><p data-pm-slice="1 3 []">Step into a world of holiday magic with the <strong>Society of Child Entrepreneurs</strong> at our annual <strong>Cookies &amp; Coloring with Mrs. Claus</strong> event! This cozy, joy-filled afternoon is perfect for young dreamers who love cookies, crafts, and Christmas cheer.</p>

<p>âœ¨ Mrs. Claus will be joining us straight from the North Pole to share warm cookies, sweet stories, and festive fun. Kids can enjoy holiday-themed coloring pages, sip on cocoa, and snap a photo with our special guest!</p>

<p>ðŸª <strong>What to Expect:</strong></p>

<ul>
	<li>
	<p>Cookies and hot cocoa with Mrs. Claus</p>
	</li>
	<li>
	<p>Holiday coloring and craft stations</p>
	</li>
	<li>
	<p>A festive photo opportunity ðŸ“¸</p>
	</li>
	<li>
	<p>Jolly music, cozy vibes, and a little North Pole magic</p>
	</li>
</ul>

<p>ðŸŽŸï¸ <strong>Admission:</strong></p>

<ul>
	<li>
	<p><strong>$5 per child</strong> (ages 1&ndash;17)</p>
	</li>
	<li>
	<p><strong>Adults are free!</strong></p>
	</li>
</ul>
<br />Details:<br />$5 per child - Free for Adults!<br />Location:<br />Goddard Community Center<br />122 N Main Street<br />Goddard, KS 67052
PRIORITY:3
TRANSP:TRANSPARENT
BEGIN:VALARM
TRIGGER:-PT5M
ACTION:DISPLAY
DESCRIPTION:Reminder
END:VALARM
END:VEVENT
END:VCALENDAR
