BEGIN:VCALENDAR
VERSION:2.0
CALSCALE:GREGORIAN
METHOD:PUBLISH
PRODID://GDDR//1372511
BEGIN:VEVENT
DTSTAMP:20260422T084951
VTIMEZONE:America/Chicago
DTSTART:20251025T220000Z
DTEND:20251026T010000Z
UID:1372511
SUMMARY:ðŸŽƒ SoCE Annual Trunk or Treat ðŸŽƒ
LOCATION:Goddard Main Street, Goddard, KS, 67052
DESCRIPTION:ðŸŽƒ SoCE Annual Trunk or Treat ðŸŽƒ\n\n10/25/25 05:00 PM CST\n - 10/25/25 08:00 PM CST\Description:\nCalling all ghouls, goblins, and young go-getters! Join the Society of Child Entrepreneurs for a spooktacular evening of candy, costumes, and community fun at our annual Trunk or Treat event! Bring the whole family and enjoy a safe, fun-filled Halloween experience where creativity and entrepreneurship collide. Our parking lot will be lined with decorated trunks hosted by SoCE members, families, and local businesses—each handing out candy and treats with a smile (and maybe a little spook)!\Details:\nFree to Attend!\n$15 to host a trunk!\Location:\nGoddard Main Street\n\nGoddard, KS 67052
X-ALT-DESC;FMTTYPE=text/html:ðŸŽƒ SoCE Annual Trunk or Treat ðŸŽƒ<br /><br />10/25/25 05:00 PM CST - 10/25/25 08:00 PM CST<br />Description:<br />Calling all ghouls, goblins, and young go-getters! Join the Society of Child Entrepreneurs for a spooktacular evening of candy, costumes, and community fun at our annual Trunk or Treat event! Bring the whole family and enjoy a safe, fun-filled Halloween experience where creativity and entrepreneurship collide. Our parking lot will be lined with decorated trunks hosted by SoCE members, families, and local businesses&mdash;each handing out candy and treats with a smile (and maybe a little spook)!<br />Details:<br />Free to Attend!<br />
$15 to host a trunk!<br />Location:<br />Goddard Main Street<br /><br />Goddard, KS 67052
PRIORITY:3
TRANSP:TRANSPARENT
BEGIN:VALARM
TRIGGER:-PT5M
ACTION:DISPLAY
DESCRIPTION:Reminder
END:VALARM
END:VEVENT
END:VCALENDAR
