BEGIN:VCALENDAR
VERSION:2.0
CALSCALE:GREGORIAN
METHOD:PUBLISH
PRODID://GDDR//1372512
BEGIN:VEVENT
DTSTAMP:20260422T084328
VTIMEZONE:America/Chicago
DTSTART:20251115T200000Z
DTEND:20251115T230000Z
UID:1372512
SUMMARY:SoCE Winter Children's Business Fair
LOCATION:Goddard Community Center, 122 N Main Street, Goddard, KS, 67052
DESCRIPTION:SoCE Winter Children's Business Fair\n\n11/15/25 02:00 PM CST\n - 11/15/25 05:00 PM CST\Description:\nObserve the opportunity for children to launch their very own business! Children develop a brand, create a product or service, build a marketing strategy, and then open for customers at our one-day marketplace. This event is sponsored by Acton Academy, and the generous support of our donors and volunteers. We all believe that principled entrepreneurs are heroes and role models for the next generation. Whether an entrepreneur is famous like Steve Jobs or Sara Blakely or they are one of the thousands of unsung business owners across this country, these are the people who make sacrifices to innovate, create jobs and serve their communities.\Details:\nFree to shop!\n$15 to Sell. Register: https://www.childrensbusinessfair.org/goddard-kansas\Location:\nGoddard Community Center\n122 N Main Street\nGoddard, KS 67052
X-ALT-DESC;FMTTYPE=text/html:SoCE Winter Children's Business Fair<br /><br />11/15/25 02:00 PM CST - 11/15/25 05:00 PM CST<br />Description:<br />Observe the opportunity for children to launch their very own business! Children develop a brand, create a product or service, build a marketing strategy, and then open for customers at our one-day marketplace. This event is sponsored by Acton Academy, and the generous support of our donors and volunteers. We all believe that principled entrepreneurs are heroes and role models for the next generation. Whether an entrepreneur is famous like Steve Jobs or Sara Blakely or they are one of the thousands of unsung business owners across this country, these are the people who make sacrifices to innovate, create jobs and serve their communities.<br />Details:<br />Free to shop!<br />
$15 to Sell. Register:&nbsp;https://www.childrensbusinessfair.org/goddard-kansas<br />Location:<br />Goddard Community Center<br />122 N Main Street<br />Goddard, KS 67052
PRIORITY:3
TRANSP:TRANSPARENT
BEGIN:VALARM
TRIGGER:-PT5M
ACTION:DISPLAY
DESCRIPTION:Reminder
END:VALARM
END:VEVENT
END:VCALENDAR
