BEGIN:VCALENDAR
VERSION:2.0
CALSCALE:GREGORIAN
METHOD:PUBLISH
PRODID://GDDR//1376604
BEGIN:VEVENT
DTSTAMP:20260422T084057
VTIMEZONE:America/Chicago
DTSTART:20251113T150000Z
DTEND:20251113T160000Z
UID:1376604
SUMMARY:Our Community Chamber Membership 101 (Membership benefits overview)
LOCATION:Our Community Chamber, 13605 W. Maple #103 (In the Lange Building), Wichita, KS, 67235
DESCRIPTION:Our Community Chamber Membership 101 (Membership benefits overview)\n\n11/13/25 09:00 AM CST\n - 11/13/25 10:00 AM CST\Description:\nOur Community Chamber Membership 101 (Membership benefits overview)\n\nThis event is open to all CURRENT OUR COMMUNITY CHAMBER MEMBERS ONLY!\n\nWe will do a deep dive into the membership benefits and review the website benefits as well.\Location:\nOur Community Chamber\n13605 W. Maple #103 (In the Lange Building)\nWichita, KS 67235
X-ALT-DESC;FMTTYPE=text/html:Our Community Chamber Membership 101 (Membership benefits overview)<br /><br />11/13/25 09:00 AM CST - 11/13/25 10:00 AM CST<br />Description:<br />Our Community Chamber Membership 101 (Membership benefits overview)<br />
<br />
This event is open to all CURRENT OUR COMMUNITY CHAMBER MEMBERS ONLY!<br />
<br />
We will do a deep dive into the membership benefits and review the website benefits as well.<br />Location:<br />Our Community Chamber<br />13605 W. Maple #103 (In the Lange Building)<br />Wichita, KS 67235
PRIORITY:3
TRANSP:TRANSPARENT
BEGIN:VALARM
TRIGGER:-PT5M
ACTION:DISPLAY
DESCRIPTION:Reminder
END:VALARM
END:VEVENT
END:VCALENDAR
