BEGIN:VCALENDAR
VERSION:2.0
CALSCALE:GREGORIAN
METHOD:PUBLISH
PRODID://GDDR//1376610
BEGIN:VEVENT
DTSTAMP:20260422T084935
VTIMEZONE:America/Chicago
DTSTART:20251024T140000Z
DTEND:20251024T160000Z
UID:1376610
SUMMARY:Our Community Chamber Sponsorship Drive
LOCATION:Our Community Chamber, 13605 W. Maple #103 (In the Lange Building), Wichita, KS, 67235
DESCRIPTION:Our Community Chamber Sponsorship Drive\n\n10/24/25 09:00 AM CST\n - 10/24/25 11:00 AM CST\Description:\nJoin us for a fun event where we will pick up the phone and help sell sponsorships to our 2025 Annual Meeting and for our 2026 Events!\Location:\nOur Community Chamber\n13605 W. Maple #103 (In the Lange Building)\nWichita, KS 67235
X-ALT-DESC;FMTTYPE=text/html:Our Community Chamber Sponsorship Drive<br /><br />10/24/25 09:00 AM CST - 10/24/25 11:00 AM CST<br />Description:<br />Join us for a fun event where we will pick up the phone and help sell sponsorships to our 2025 Annual Meeting and for our 2026 Events!<br />Location:<br />Our Community Chamber<br />13605 W. Maple #103 (In the Lange Building)<br />Wichita, KS 67235
PRIORITY:3
TRANSP:TRANSPARENT
BEGIN:VALARM
TRIGGER:-PT5M
ACTION:DISPLAY
DESCRIPTION:Reminder
END:VALARM
END:VEVENT
END:VCALENDAR
