BEGIN:VCALENDAR
VERSION:2.0
CALSCALE:GREGORIAN
METHOD:PUBLISH
PRODID://GDDR//1377870
BEGIN:VEVENT
DTSTAMP:20260422T085220
VTIMEZONE:America/Chicago
DTSTART:20251122T150000Z
DTEND:20251122T210000Z
UID:1377870
SUMMARY:St Mary's Fall Craft Fair
LOCATION:St Mary's Catholic School, 2306 Meadowlark Blvd, Derby, KS, 67037
DESCRIPTION:St Mary's Fall Craft Fair\n\n11/22/25 09:00 AM CST\n - 11/22/25 03:00 PM CST\Description:\nJoin us for the 10th Annual St. Mary’s Fall Craft Fair! With over 100 vendors, this beloved community event features a wide variety of handmade goods, holiday décor, unique gifts, boutique items, and delicious treats. Whether you’re shopping for yourself or getting a head start on holiday presents, you’ll find something for everyone. Proceeds from the fair support St. Mary Catholic School. Come shop local, support small businesses, and enjoy a fun day out with family and friends!\Details:\nDate: Saturday, November 22, 2025\nLocation: St. Mary Catholic School, 2306 E. Meadowlark Rd., Derby, KS\nTime: 9:00 a.m. – 3:00 p.m.\nPrice: $5\Location:\nSt Mary's Catholic School\n2306 Meadowlark Blvd\nDerby, KS 67037
X-ALT-DESC;FMTTYPE=text/html:St Mary's Fall Craft Fair<br /><br />11/22/25 09:00 AM CST - 11/22/25 03:00 PM CST<br />Description:<br />Join us for the 10th Annual St. Mary&rsquo;s Fall Craft Fair! With over 100 vendors, this beloved community event features a wide variety of handmade goods, holiday d&eacute;cor, unique gifts, boutique items, and delicious treats. Whether you&rsquo;re shopping for yourself or getting a head start on holiday presents, you&rsquo;ll find something for everyone. Proceeds from the fair support St. Mary Catholic School. Come shop local, support small businesses, and enjoy a fun day out with family and friends!<br />Details:<br /><strong>Date:</strong> Saturday, November 22, 2025<br />
<strong>Location:</strong> St. Mary Catholic School, 2306&nbsp;E. Meadowlark Rd., Derby, KS<br />
<strong>Time:</strong> 9:00 a.m. &ndash; 3:00 p.m.<br />
<strong>Price:&nbsp;</strong>$5<br />Location:<br />St Mary's Catholic School<br />2306 Meadowlark Blvd<br />Derby, KS 67037
PRIORITY:3
TRANSP:TRANSPARENT
BEGIN:VALARM
TRIGGER:-PT5M
ACTION:DISPLAY
DESCRIPTION:Reminder
END:VALARM
END:VEVENT
END:VCALENDAR
