BEGIN:VCALENDAR
VERSION:2.0
CALSCALE:GREGORIAN
METHOD:PUBLISH
PRODID://GDDR//1395833
BEGIN:VEVENT
DTSTAMP:20260422T085327
VTIMEZONE:America/Chicago
DTSTART:20251211T173000Z
DTEND:20251211T193000Z
UID:1395833
SUMMARY:Our Community Chamber 2025 Annual Meeting & Business of the Year Awards
LOCATION:HIDDEN VINEYARDS, 5705-5711 N Tyler Rd, Maize, KS, 67101
DESCRIPTION:Our Community Chamber 2025 Annual Meeting & Business of the Year Awards\n\n12/11/25 11:30 AM CST\n - 12/11/25 01:30 PM CST\Description:\nJOIN US FOR THE 2025 OUR COMMUNITY CHAMBER ANNUAL MEETING AND BUSINESS OF THE YEAR AWARDS\nSPONOSRED BY: THE HALSTEAD BANK AND UNGLES INDEPENDENT INSURANCE GROUP\n\nDATE: DECEMBER 11TH FROM 11:30am-1:30pm.\nLOCATION:    \nHIDDEN VINEYARDS\n5705-5711 N Tyler Rd, Maize, KS 67101\n\nKEYNOTE SPEAKER: DR. DEVIN VRANA\n\nPLUS BUSINESS OF THE YEAR AWARDS WILL BE GIVEN TO 3 BUSINESSES:\n3 TIERS: 1-5 Employees, 6-10 employees and 11+ Employees.\nThe Annual Meeting will also include a catered lunch, networking, voting on the Board of Directors and sharing our vision for 2026!\n\nPlease note Annual Lunch Tickets cannot be used for this event. \n\nPlease contact the Goddard Chamber for tickets and Sponsorships! \n \nRefund Policy:\nTickets and ticket packages are nonrefundable. Any unattended events or non-transferred event registrations throughout 2025 are not refundable.\n\nAttendees of Chamber events agree to allow the Chamber and/or its official photographer to capture their image via photograph, video, or screenshot in the context of the event. Footage captured by the Chamber and/or its official photographer may be posted on social media, shared with media outlets, and/or used in future print and electronic promotional materials.\n\nChecks and credit cards are the only accepted methods of payment for this event; no cash, please.\n\Location:\nHIDDEN VINEYARDS\n5705-5711 N Tyler Rd\nMaize, KS 67101
X-ALT-DESC;FMTTYPE=text/html:Our Community Chamber 2025 Annual Meeting & Business of the Year Awards<br /><br />12/11/25 11:30 AM CST - 12/11/25 01:30 PM CST<br />Description:<br /><p><strong>JOIN US FOR THE 2025 OUR COMMUNITY CHAMBER ANNUAL MEETING AND BUSINESS OF THE YEAR AWARDS<br />
SPONOSRED BY: THE HALSTEAD BANK AND UNGLES INDEPENDENT INSURANCE GROUP<br />
<br />
DATE: DECEMBER 11TH FROM 11:30am-1:30pm.<br />
LOCATION: &nbsp; &nbsp;<br />
HIDDEN VINEYARDS<br />
5705-5711 N Tyler Rd, Maize, KS 67101</strong></p>

<p><strong>KEYNOTE SPEAKER: DR. DEVIN VRANA</strong></p>

<p><strong>PLUS BUSINESS OF THE YEAR AWARDS WILL BE GIVEN TO 3 BUSINESSES:</strong><br />
3&nbsp;TIERS: 1-5 Employees, 6-10 employees and 11+ Employees.</p>
The Annual Meeting will also include a catered lunch, networking, voting on the Board of Directors and sharing our vision for 2026!<br />
<br />
<strong>Please note Annual Lunch Tickets cannot be used for this event.&nbsp;</strong><br />
<br />
Please contact the Goddard Chamber for tickets and Sponsorships!&nbsp;<br />
&nbsp;
<p><strong>Refund Policy:</strong><br />
Tickets and ticket packages are nonrefundable. Any unattended events or non-transferred event registrations throughout 2025 are not refundable.</p>

<p><em>Attendees of Chamber events agree to allow the Chamber and/or its official photographer to capture their image via photograph, video, or screenshot in the context of the event. Footage captured by the Chamber and/or its official photographer may be posted on social media, shared with media outlets, and/or used in future print and electronic promotional materials.</em></p>

<p><em>Checks and credit cards are the only accepted methods of payment for this event; no cash, please.</em></p>
<br />Location:<br />HIDDEN VINEYARDS<br />5705-5711 N Tyler Rd<br />Maize, KS 67101
PRIORITY:3
TRANSP:TRANSPARENT
BEGIN:VALARM
TRIGGER:-PT5M
ACTION:DISPLAY
DESCRIPTION:Reminder
END:VALARM
END:VEVENT
END:VCALENDAR
