BEGIN:VCALENDAR
VERSION:2.0
CALSCALE:GREGORIAN
METHOD:PUBLISH
PRODID://GDDR//1420968
BEGIN:VEVENT
DTSTAMP:20260422T070353
VTIMEZONE:America/Chicago
DTSTART:20260917T124500Z
DTEND:20260917T140000Z
UID:1420968
SUMMARY:OCC September Cards and Coffee at Cofellow
LOCATION:Cofellow Coffee Parlor, 107 N. Main, Goddard, KS, 67052
DESCRIPTION:OCC September Cards and Coffee at Cofellow\n\n09/17/26 07:45 AM CST\n - 09/17/26 09:00 AM CST\Description:\nJoin us for Cards and Coffee at Cofellow Coffee Parlor!\n\nBe sure to invite a guest and bring plenty of business cards!\n\nFREE NETWORKING AND BUSINESS CARD EVENT FOR ALL AREA BUSINESSES!\n\Location:\nCofellow Coffee Parlor\n107 N. Main\nGoddard, KS 67052
X-ALT-DESC;FMTTYPE=text/html:OCC September Cards and Coffee at Cofellow<br /><br />09/17/26 07:45 AM CST - 09/17/26 09:00 AM CST<br />Description:<br /><p>Join us for Cards and Coffee at Cofellow Coffee Parlor!</p>

<p>Be sure to invite a guest and bring plenty of business cards!<br />
<br />
FREE NETWORKING AND BUSINESS CARD&nbsp;EVENT FOR ALL AREA BUSINESSES!</p>
<br />Location:<br />Cofellow Coffee Parlor<br />107 N. Main<br />Goddard, KS 67052
PRIORITY:3
TRANSP:TRANSPARENT
BEGIN:VALARM
TRIGGER:-PT5M
ACTION:DISPLAY
DESCRIPTION:Reminder
END:VALARM
END:VEVENT
END:VCALENDAR
