BEGIN:VCALENDAR
VERSION:2.0
CALSCALE:GREGORIAN
METHOD:PUBLISH
PRODID://GDDR//1420971
BEGIN:VEVENT
DTSTAMP:20260422T070121
VTIMEZONE:America/Chicago
DTSTART:20261007T123000Z
DTEND:20261007T143000Z
UID:1420971
SUMMARY:OCC October Cards and Coffee at Moxi Junction
LOCATION:Moxi Junction, 319 S Park St, Maize, KS 67101, Maize, KS, 67101
DESCRIPTION:OCC October Cards and Coffee at Moxi Junction\n\n10/07/26 07:30 AM CST\n - 10/07/26 09:30 AM CST\Description:\nJoin us for Cards and Coffee at Moxi Junction in Maize!\n\nBe sure to invite a guest and bring plenty of business cards!\n\nFREE NETWORKING AND BUSINESS CARD EVENT FOR ALL AREA BUSINESSES!\n\Location:\nMoxi Junction\n319 S Park St, Maize, KS 67101\nMaize, KS 67101
X-ALT-DESC;FMTTYPE=text/html:OCC October Cards and Coffee at Moxi Junction<br /><br />10/07/26 07:30 AM CST - 10/07/26 09:30 AM CST<br />Description:<br /><p>Join us for Cards and Coffee at Moxi Junction in Maize!</p>

<p>Be sure to invite a guest and bring plenty of business cards!<br />
<br />
FREE NETWORKING AND BUSINESS CARD&nbsp;EVENT FOR ALL AREA BUSINESSES!</p>
<br />Location:<br />Moxi Junction<br />319 S Park St, Maize, KS 67101<br />Maize, KS 67101
PRIORITY:3
TRANSP:TRANSPARENT
BEGIN:VALARM
TRIGGER:-PT5M
ACTION:DISPLAY
DESCRIPTION:Reminder
END:VALARM
END:VEVENT
END:VCALENDAR
