BEGIN:VCALENDAR
VERSION:2.0
CALSCALE:GREGORIAN
METHOD:PUBLISH
PRODID://GDDR//1420996
BEGIN:VEVENT
DTSTAMP:20260422T070121
VTIMEZONE:America/Chicago
DTSTART:20261210T173000Z
DTEND:20261210T193000Z
UID:1420996
SUMMARY:OCC 2026 Annual Meeting & Business of the Year Awards
LOCATION:
DESCRIPTION:OCC 2026 Annual Meeting & Business of the Year Awards\n\n12/10/26 11:30 AM CST\n - 12/10/26 01:30 PM CST\Description:\nJOIN US FOR THE 2026 OUR COMMUNITY CHAMBER ANNUAL MEETING AND BUSINESS OF THE YEAR AWARDS\n\n\nDATE: DECEMBER 10TH FROM 11:30am-1:30pm.\nThe Annual Meeting will also include a catered lunch, networking, voting on the Board of Directors and sharing our vision for 2026!\n\nPlease note Annual Lunch Tickets cannot be used for this event. \n\nPlease contact the Goddard Chamber for tickets and Sponsorships! \n \nRefund Policy:\nTickets and ticket packages are nonrefundable. Any unattended events or non-transferred event registrations throughout 2025 are not refundable.\n\nAttendees of Chamber events agree to allow the Chamber and/or its official photographer to capture their image via photograph, video, or screenshot in the context of the event. Footage captured by the Chamber and/or its official photographer may be posted on social media, shared with media outlets, and/or used in future print and electronic promotional materials.\n\nChecks and credit cards are the only accepted methods of payment for this event; no cash, please.\n\n \n
X-ALT-DESC;FMTTYPE=text/html:OCC 2026 Annual Meeting & Business of the Year Awards<br /><br />12/10/26 11:30 AM CST - 12/10/26 01:30 PM CST<br />Description:<br /><p><strong>JOIN US FOR THE 2026&nbsp;OUR COMMUNITY CHAMBER ANNUAL MEETING AND BUSINESS OF THE YEAR AWARDS<br />
<br />
<br />
DATE: DECEMBER 10TH FROM 11:30am-1:30pm.</strong></p>
The Annual Meeting will also include a catered lunch, networking, voting on the Board of Directors and sharing our vision for 2026!<br />
<br />
<strong>Please note Annual Lunch Tickets cannot be used for this event.&nbsp;</strong><br />
<br />
Please contact the Goddard Chamber for tickets and Sponsorships!&nbsp;<br />
&nbsp;
<p><strong>Refund Policy:</strong><br />
Tickets and ticket packages are nonrefundable. Any unattended events or non-transferred event registrations throughout 2025 are not refundable.</p>

<p><em>Attendees of Chamber events agree to allow the Chamber and/or its official photographer to capture their image via photograph, video, or screenshot in the context of the event. Footage captured by the Chamber and/or its official photographer may be posted on social media, shared with media outlets, and/or used in future print and electronic promotional materials.</em></p>

<p><em>Checks and credit cards are the only accepted methods of payment for this event; no cash, please.</em></p>

<p>&nbsp;</p>

PRIORITY:3
TRANSP:TRANSPARENT
BEGIN:VALARM
TRIGGER:-PT5M
ACTION:DISPLAY
DESCRIPTION:Reminder
END:VALARM
END:VEVENT
END:VCALENDAR
