BEGIN:VCALENDAR
VERSION:2.0
CALSCALE:GREGORIAN
METHOD:PUBLISH
PRODID://GDDR//1422368
BEGIN:VEVENT
DTSTAMP:20260422T070827
VTIMEZONE:America/Chicago
DTSTART:20260813T163000Z
DTEND:20260813T180000Z
UID:1422368
SUMMARY:OCC August 2026 Luncheon Sponsored by Halstead Bank & Iron Insurance Partners
LOCATION:Pathway Church - Goddard , 18800 W Kellogg Dr, Goddard, ks, 67052
DESCRIPTION:OCC August 2026 Luncheon Sponsored by Halstead Bank & Iron Insurance Partners\n\n08/13/26 11:30 AM CST\n - 08/13/26 01:00 PM CST\Description:\nAugust Luncheon Sponsored by: Halstead Bank & Iron Insurance Partners\nTOPIC: Entrepreneurship\nSpeakers include: Leah Ellis, Founder, The Society of Child Entrepreneurs\nRegina Miller, Regina is the proud owner of the award winning Trailblazers Academy in Wichita, Kansas and R. Miller Consulting LLC.\n\nRefund Policy:\nTickets and ticket packages are nonrefundable. Any unattended events or non-transferred event registrations throughout 2026 are not refundable.\n\nAttendees of Chamber events agree to allow the Chamber and/or its official photographer to capture their image via photograph, video, or screenshot in the context of the event. Footage captured by the Chamber and/or its official photographer may be posted on social media, shared with media outlets, and/or used in future print and electronic promotional materials.\n\nWE ACCEPT CASH, CHECKS OR CREDIT CARD THROUGH OUR ONLINE PROCESSOR, PAYPAL.\n\Location:\nPathway Church - Goddard \n18800 W Kellogg Dr\nGoddard, ks 67052
X-ALT-DESC;FMTTYPE=text/html:OCC August 2026 Luncheon Sponsored by Halstead Bank & Iron Insurance Partners<br /><br />08/13/26 11:30 AM CST - 08/13/26 01:00 PM CST<br />Description:<br /><strong>August Luncheon Sponsored by: Halstead Bank &amp; Iron Insurance Partners<br />
TOPIC: Entrepreneurship<br />
Speakers include: Leah Ellis, Founder,&nbsp;The&nbsp;Society&nbsp;of&nbsp;Child Entrepreneurs<br />
Regina Miller,&nbsp;Regina is the proud owner of&nbsp;the&nbsp;award winning&nbsp;Trailblazers Academy&nbsp;in Wichita,&nbsp;Kansas&nbsp;and R. Miller Consulting LLC.<br />
<br />
Refund Policy:</strong>
<p>Tickets and ticket packages are nonrefundable. Any unattended events or non-transferred event registrations throughout 2026&nbsp;are not refundable.</p>

<p><em>Attendees of Chamber events agree to allow the Chamber and/or its official photographer to capture their image via photograph, video, or screenshot in the context of the event. Footage captured by the Chamber and/or its official photographer may be posted on social media, shared with media outlets, and/or used in future print and electronic promotional materials.</em></p>

<p>WE ACCEPT CASH, CHECKS OR CREDIT CARD THROUGH OUR ONLINE PROCESSOR, PAYPAL.</p>
<br />Location:<br />Pathway Church - Goddard <br />18800 W Kellogg Dr<br />Goddard, ks 67052
PRIORITY:3
TRANSP:TRANSPARENT
BEGIN:VALARM
TRIGGER:-PT5M
ACTION:DISPLAY
DESCRIPTION:Reminder
END:VALARM
END:VEVENT
END:VCALENDAR
