BEGIN:VCALENDAR
VERSION:2.0
CALSCALE:GREGORIAN
METHOD:PUBLISH
PRODID://GDDR//1428200
BEGIN:VEVENT
DTSTAMP:20260422T071502
VTIMEZONE:America/Chicago
DTSTART:20260514T163000Z
DTEND:20260514T180000Z
UID:1428200
SUMMARY:OCC May 2026 Luncheon/Business Roundtable Sponsored by Processing Partners & Iron Insurance Partners
LOCATION:Pathway Church - Goddard , 18800 W Kellogg Dr, Goddard, KS, 67052
DESCRIPTION:OCC May 2026 Luncheon/Business Roundtable Sponsored by Processing Partners & Iron Insurance Partners\n\n05/14/26 11:30 AM CST\n - 05/14/26 01:00 PM CST\Description:\nMay Luncheon Sponsored by: Processing Partners & Iron Insurance Partners\nMay 14th, 11:30-1 at Pathway Church in Goddard\nTOPIC: THIS WILL BE A SMALL BUSINESS ROUNDTABLE\nTopics to include takeaways from the last two luncheons: Social Media and Branding\n\n	Bring your ideas, your questions, and your ‘I swear this sounded smarter in my head’ moments. Our Small Business Roundtable can handle it!\n\n \n\nPhoto Policy:\n\nAttendees of Chamber events agree to allow the Chamber and/or its official photographer to capture their image via photograph, video, or screenshot in the context of the event. Footage captured by the Chamber and/or its official photographer may be posted on social media, shared with media outlets, and/or used in future print and electronic promotional materials.\n\nRefund Policy:\nThe Chamber’s policy is to require payment in advance for admission to all Chamber events due to commitments to our vendors. If you cannot attend, we welcome substitutions, so please send an alternate from your company. Unless otherwise stated on registration materials, the deadline to request a refund for an event registration you cannot attend is two business days before the event. Chamber event reservations not kept, or canceled less than two business days prior to the event, will not be eligible for a refund, and will be billed if they have not yet been paid. Please call 316-833-8385 with any questions regarding the cancellation policy.\n\Location:\nPathway Church - Goddard \n18800 W Kellogg Dr\nGoddard, KS 67052
X-ALT-DESC;FMTTYPE=text/html:OCC May 2026 Luncheon/Business Roundtable Sponsored by Processing Partners & Iron Insurance Partners<br /><br />05/14/26 11:30 AM CST - 05/14/26 01:00 PM CST<br />Description:<br /><strong>May Luncheon Sponsored by: Processing Partners &amp; Iron Insurance Partners<br />
May 14th, 11:30-1 at Pathway Church in Goddard<br />
TOPIC: THIS WILL BE A SMALL BUSINESS ROUNDTABLE<br />
Topics to include takeaways from the last two luncheons: Social Media and Branding</strong>
<ul>
	<li>Bring your ideas, your questions, and your &lsquo;I swear this sounded smarter in my head&rsquo; moments. Our Small Business Roundtable can handle it!</li>
</ul>
&nbsp;

<p><strong>Photo Policy:</strong></p>

<p><strong>Attendees of Chamber events agree to allow the Chamber and/or its official photographer to capture their image via photograph, video, or screenshot in the context of the event. Footage captured by the Chamber and/or its official photographer may be posted on social media, shared with media outlets, and/or used in future print and electronic promotional materials.</strong></p>

<p><strong>Refund Policy:<br />
The Chamber&rsquo;s policy is to require payment in advance for admission to all Chamber events due to commitments to our vendors. If you cannot attend, we welcome substitutions, so please send an alternate from your company.&nbsp;Unless otherwise stated on registration materials, the deadline to request a refund for an event registration you cannot attend is&nbsp;two business days&nbsp;before the event.&nbsp;Chamber event reservations not kept, or canceled less than&nbsp;two business days&nbsp;prior to the event, will not be eligible for a refund, and will be billed if they have not yet been paid. Please call 316-833-8385 with any questions regarding the cancellation policy.</strong></p>
<br />Location:<br />Pathway Church - Goddard <br />18800 W Kellogg Dr<br />Goddard, KS 67052
PRIORITY:3
TRANSP:TRANSPARENT
BEGIN:VALARM
TRIGGER:-PT5M
ACTION:DISPLAY
DESCRIPTION:Reminder
END:VALARM
END:VEVENT
END:VCALENDAR
